BEGIN:VCALENDAR
VERSION:2.0
PRODID:-//Segel Club Baldeneysee e.V. - ECPv6.15.20//NONSGML v1.0//EN
CALSCALE:GREGORIAN
METHOD:PUBLISH
X-WR-CALNAME:Segel Club Baldeneysee e.V.
X-ORIGINAL-URL:https://scb-web.de
X-WR-CALDESC:Veranstaltungen für Segel Club Baldeneysee e.V.
REFRESH-INTERVAL;VALUE=DURATION:PT1H
X-Robots-Tag:noindex
X-PUBLISHED-TTL:PT1H
BEGIN:VTIMEZONE
TZID:Europe/Berlin
BEGIN:DAYLIGHT
TZOFFSETFROM:+0100
TZOFFSETTO:+0200
TZNAME:CEST
DTSTART:20250330T010000
END:DAYLIGHT
BEGIN:STANDARD
TZOFFSETFROM:+0200
TZOFFSETTO:+0100
TZNAME:CET
DTSTART:20251026T010000
END:STANDARD
BEGIN:DAYLIGHT
TZOFFSETFROM:+0100
TZOFFSETTO:+0200
TZNAME:CEST
DTSTART:20260329T010000
END:DAYLIGHT
BEGIN:STANDARD
TZOFFSETFROM:+0200
TZOFFSETTO:+0100
TZNAME:CET
DTSTART:20261025T010000
END:STANDARD
BEGIN:DAYLIGHT
TZOFFSETFROM:+0100
TZOFFSETTO:+0200
TZNAME:CEST
DTSTART:20270328T010000
END:DAYLIGHT
BEGIN:STANDARD
TZOFFSETFROM:+0200
TZOFFSETTO:+0100
TZNAME:CET
DTSTART:20271031T010000
END:STANDARD
END:VTIMEZONE
BEGIN:VEVENT
DTSTART;TZID=Europe/Berlin:20260302T190000
DTEND;TZID=Europe/Berlin:20260302T213000
DTSTAMP:20260424T174535
CREATED:20260223T072350Z
LAST-MODIFIED:20260223T072350Z
UID:2307-1772478000-1772487000@scb-web.de
SUMMARY:Seglertreff
DESCRIPTION:
URL:https://scb-web.de/event/seglertreff-97/
LOCATION:SCB Bootshaus\, Fischlaker Höfe 99\, Essen\, NRW\, 45239\, Deutschland
CATEGORIES:Gemütliches
END:VEVENT
BEGIN:VEVENT
DTSTART;TZID=Europe/Berlin:20260313T193000
DTEND;TZID=Europe/Berlin:20260313T220000
DTSTAMP:20260424T174535
CREATED:20260101T171934Z
LAST-MODIFIED:20260101T171934Z
UID:2264-1773430200-1773439200@scb-web.de
SUMMARY:Mitgliederversammlung (gesonderte Einladung)
DESCRIPTION:
URL:https://scb-web.de/event/mitgliederversammlung-gesonderte-einladung-2/
LOCATION:SCB Bootshaus\, Fischlaker Höfe 99\, Essen\, NRW\, 45239\, Deutschland
CATEGORIES:Versammlung
END:VEVENT
BEGIN:VEVENT
DTSTART;TZID=Europe/Berlin:20260316T190000
DTEND;TZID=Europe/Berlin:20260316T213000
DTSTAMP:20260424T174535
CREATED:20260223T072455Z
LAST-MODIFIED:20260223T072455Z
UID:2309-1773687600-1773696600@scb-web.de
SUMMARY:Seglertreff
DESCRIPTION:
URL:https://scb-web.de/event/seglertreff-98/
LOCATION:SCB Bootshaus\, Fischlaker Höfe 99\, Essen\, NRW\, 45239\, Deutschland
CATEGORIES:Gemütliches
END:VEVENT
BEGIN:VEVENT
DTSTART;TZID=Europe/Berlin:20260328T090000
DTEND;TZID=Europe/Berlin:20260328T170000
DTSTAMP:20260424T174535
CREATED:20260101T172018Z
LAST-MODIFIED:20260101T172018Z
UID:2266-1774688400-1774717200@scb-web.de
SUMMARY:1. Aufräumtag (gesonderte Einladung)
DESCRIPTION:
URL:https://scb-web.de/event/1-aufraeumtag-gesonderte-einladung-2/
LOCATION:SCB Bootshaus\, Fischlaker Höfe 99\, Essen\, NRW\, 45239\, Deutschland
CATEGORIES:Arbeitseinsatz
END:VEVENT
BEGIN:VEVENT
DTSTART;TZID=Europe/Berlin:20260330T190000
DTEND;TZID=Europe/Berlin:20260330T213000
DTSTAMP:20260424T174535
CREATED:20260223T072536Z
LAST-MODIFIED:20260223T072536Z
UID:2311-1774897200-1774906200@scb-web.de
SUMMARY:Seglertreff
DESCRIPTION:
URL:https://scb-web.de/event/seglertreff-99/
LOCATION:SCB Bootshaus\, Fischlaker Höfe 99\, Essen\, NRW\, 45239\, Deutschland
CATEGORIES:Gemütliches
END:VEVENT
END:VCALENDAR