BEGIN:VCALENDAR
VERSION:2.0
PRODID:-//Segel Club Baldeneysee e.V. - ECPv6.15.20//NONSGML v1.0//EN
CALSCALE:GREGORIAN
METHOD:PUBLISH
X-ORIGINAL-URL:https://scb-web.de
X-WR-CALDESC:Veranstaltungen für Segel Club Baldeneysee e.V.
REFRESH-INTERVAL;VALUE=DURATION:PT1H
X-Robots-Tag:noindex
X-PUBLISHED-TTL:PT1H
BEGIN:VTIMEZONE
TZID:Europe/Berlin
BEGIN:DAYLIGHT
TZOFFSETFROM:+0100
TZOFFSETTO:+0200
TZNAME:CEST
DTSTART:20250330T010000
END:DAYLIGHT
BEGIN:STANDARD
TZOFFSETFROM:+0200
TZOFFSETTO:+0100
TZNAME:CET
DTSTART:20251026T010000
END:STANDARD
BEGIN:DAYLIGHT
TZOFFSETFROM:+0100
TZOFFSETTO:+0200
TZNAME:CEST
DTSTART:20260329T010000
END:DAYLIGHT
BEGIN:STANDARD
TZOFFSETFROM:+0200
TZOFFSETTO:+0100
TZNAME:CET
DTSTART:20261025T010000
END:STANDARD
BEGIN:DAYLIGHT
TZOFFSETFROM:+0100
TZOFFSETTO:+0200
TZNAME:CEST
DTSTART:20270328T010000
END:DAYLIGHT
BEGIN:STANDARD
TZOFFSETFROM:+0200
TZOFFSETTO:+0100
TZNAME:CET
DTSTART:20271031T010000
END:STANDARD
END:VTIMEZONE
BEGIN:VEVENT
DTSTART;TZID=Europe/Berlin:20260202T190000
DTEND;TZID=Europe/Berlin:20260202T213000
DTSTAMP:20260424T192055
CREATED:20260101T171708Z
LAST-MODIFIED:20260101T171708Z
UID:2258-1770058800-1770067800@scb-web.de
SUMMARY:Seglertreff
DESCRIPTION:
URL:https://scb-web.de/event/seglertreff-95/
LOCATION:SCB Bootshaus\, Fischlaker Höfe 99\, Essen\, NRW\, 45239\, Deutschland
CATEGORIES:Gemütliches
END:VEVENT
BEGIN:VEVENT
DTSTART;TZID=Europe/Berlin:20260216T190000
DTEND;TZID=Europe/Berlin:20260216T213000
DTSTAMP:20260424T192055
CREATED:20260101T171751Z
LAST-MODIFIED:20260212T154400Z
UID:2260-1771268400-1771277400@scb-web.de
SUMMARY:Kein Seglertreff - Rosenmontag
DESCRIPTION:
URL:https://scb-web.de/event/seglertreff-96/
LOCATION:SCB Bootshaus\, Fischlaker Höfe 99\, Essen\, NRW\, 45239\, Deutschland
CATEGORIES:Gemütliches
END:VEVENT
BEGIN:VEVENT
DTSTART;TZID=Europe/Berlin:20260219T190000
DTEND;TZID=Europe/Berlin:20260219T210000
DTSTAMP:20260424T192055
CREATED:20260209T070054Z
LAST-MODIFIED:20260208T090308Z
UID:2262-1771527600-1771534800@scb-web.de
SUMMARY:Fällt aus Ausbildung SRC / UBI (max. 8 Teilnehmer)
DESCRIPTION:Liebe Teilnehmerinnen und Teilnehmer\, \nleider müssen wir euch mitteilen\, dass der für den 19. Februar geplante Beginn des Funk-Kurses kurzfristig abgesagt werden muss. \nWir bitten um  euer Verständnis. \nÜber eine mögliche Neuplanung bzw. einen Ersatztermin werden wir euch rechtzeitig informieren.
URL:https://scb-web.de/event/einfuehrungsabend-start-der-ausbildung-src-ubi-max-8-teilnehmer-warteliste/
LOCATION:SCB Bootshaus\, Fischlaker Höfe 99\, Essen\, NRW\, 45239\, Deutschland
CATEGORIES:Ausbildung
END:VEVENT
END:VCALENDAR