BEGIN:VCALENDAR
VERSION:2.0
PRODID:-//Segel Club Baldeneysee e.V. - ECPv6.15.20//NONSGML v1.0//EN
CALSCALE:GREGORIAN
METHOD:PUBLISH
X-ORIGINAL-URL:https://scb-web.de
X-WR-CALDESC:Veranstaltungen für Segel Club Baldeneysee e.V.
REFRESH-INTERVAL;VALUE=DURATION:PT1H
X-Robots-Tag:noindex
X-PUBLISHED-TTL:PT1H
BEGIN:VTIMEZONE
TZID:Europe/Berlin
BEGIN:DAYLIGHT
TZOFFSETFROM:+0100
TZOFFSETTO:+0200
TZNAME:CEST
DTSTART:20250330T010000
END:DAYLIGHT
BEGIN:STANDARD
TZOFFSETFROM:+0200
TZOFFSETTO:+0100
TZNAME:CET
DTSTART:20251026T010000
END:STANDARD
BEGIN:DAYLIGHT
TZOFFSETFROM:+0100
TZOFFSETTO:+0200
TZNAME:CEST
DTSTART:20260329T010000
END:DAYLIGHT
BEGIN:STANDARD
TZOFFSETFROM:+0200
TZOFFSETTO:+0100
TZNAME:CET
DTSTART:20261025T010000
END:STANDARD
BEGIN:DAYLIGHT
TZOFFSETFROM:+0100
TZOFFSETTO:+0200
TZNAME:CEST
DTSTART:20270328T010000
END:DAYLIGHT
BEGIN:STANDARD
TZOFFSETFROM:+0200
TZOFFSETTO:+0100
TZNAME:CET
DTSTART:20271031T010000
END:STANDARD
END:VTIMEZONE
BEGIN:VEVENT
DTSTART;TZID=Europe/Berlin:20260101T140000
DTEND;TZID=Europe/Berlin:20260101T170000
DTSTAMP:20260424T204816
CREATED:20251126T170000Z
LAST-MODIFIED:20251126T170000Z
UID:2232-1767276000-1767286800@scb-web.de
SUMMARY:Angrillen: Wir begrüßen das "Neue Jahr 2026"
DESCRIPTION:
URL:https://scb-web.de/event/angrillen-wir-begruessen-das-neue-jahr-2026/
LOCATION:SCB Bootshaus\, Fischlaker Höfe 99\, Essen\, NRW\, 45239\, Deutschland
CATEGORIES:Gemütliches
END:VEVENT
BEGIN:VEVENT
DTSTART;TZID=Europe/Berlin:20260105T190000
DTEND;TZID=Europe/Berlin:20260105T213000
DTSTAMP:20260424T204816
CREATED:20251230T110003Z
LAST-MODIFIED:20260105T161239Z
UID:2241-1767639600-1767648600@scb-web.de
SUMMARY:Seglertreff - wetterbedingt abgesagt
DESCRIPTION:
URL:https://scb-web.de/event/seglertreff-93/
LOCATION:SCB Bootshaus\, Fischlaker Höfe 99\, Essen\, NRW\, 45239\, Deutschland
CATEGORIES:Gemütliches
END:VEVENT
BEGIN:VEVENT
DTSTART;TZID=Europe/Berlin:20260119T190000
DTEND;TZID=Europe/Berlin:20260119T213000
DTSTAMP:20260424T204816
CREATED:20251230T110017Z
LAST-MODIFIED:20251221T111159Z
UID:2243-1768849200-1768858200@scb-web.de
SUMMARY:Seglertreff
DESCRIPTION:
URL:https://scb-web.de/event/seglertreff-94/
LOCATION:SCB Bootshaus\, Fischlaker Höfe 99\, Essen\, NRW\, 45239\, Deutschland
CATEGORIES:Gemütliches
END:VEVENT
BEGIN:VEVENT
DTSTART;TZID=Europe/Berlin:20260131T153000
DTEND;TZID=Europe/Berlin:20260131T180000
DTSTAMP:20260424T204816
CREATED:20260101T171534Z
LAST-MODIFIED:20260101T171534Z
UID:2256-1769873400-1769882400@scb-web.de
SUMMARY:Heringsstipp Essen (gesonderte Einladung)
DESCRIPTION:
URL:https://scb-web.de/event/heringsstipp-essen-gesonderte-einladung-3/
LOCATION:SCB Bootshaus\, Fischlaker Höfe 99\, Essen\, NRW\, 45239\, Deutschland
CATEGORIES:Gemütliches
END:VEVENT
END:VCALENDAR