BEGIN:VCALENDAR
VERSION:2.0
PRODID:-//Segel Club Baldeneysee e.V. - ECPv6.15.20//NONSGML v1.0//EN
CALSCALE:GREGORIAN
METHOD:PUBLISH
X-WR-CALNAME:Segel Club Baldeneysee e.V.
X-ORIGINAL-URL:https://scb-web.de
X-WR-CALDESC:Veranstaltungen für Segel Club Baldeneysee e.V.
REFRESH-INTERVAL;VALUE=DURATION:PT1H
X-Robots-Tag:noindex
X-PUBLISHED-TTL:PT1H
BEGIN:VTIMEZONE
TZID:Europe/Berlin
BEGIN:DAYLIGHT
TZOFFSETFROM:+0100
TZOFFSETTO:+0200
TZNAME:CEST
DTSTART:20240331T010000
END:DAYLIGHT
BEGIN:STANDARD
TZOFFSETFROM:+0200
TZOFFSETTO:+0100
TZNAME:CET
DTSTART:20241027T010000
END:STANDARD
BEGIN:DAYLIGHT
TZOFFSETFROM:+0100
TZOFFSETTO:+0200
TZNAME:CEST
DTSTART:20250330T010000
END:DAYLIGHT
BEGIN:STANDARD
TZOFFSETFROM:+0200
TZOFFSETTO:+0100
TZNAME:CET
DTSTART:20251026T010000
END:STANDARD
BEGIN:DAYLIGHT
TZOFFSETFROM:+0100
TZOFFSETTO:+0200
TZNAME:CEST
DTSTART:20260329T010000
END:DAYLIGHT
BEGIN:STANDARD
TZOFFSETFROM:+0200
TZOFFSETTO:+0100
TZNAME:CET
DTSTART:20261025T010000
END:STANDARD
END:VTIMEZONE
BEGIN:VEVENT
DTSTART;TZID=Europe/Berlin:20251208T190000
DTEND;TZID=Europe/Berlin:20251208T213000
DTSTAMP:20260424T224327
CREATED:20251116T190005Z
LAST-MODIFIED:20251116T074759Z
UID:2223-1765220400-1765229400@scb-web.de
SUMMARY:Seglertreff
DESCRIPTION:
URL:https://scb-web.de/event/seglertreff-91/
LOCATION:SCB Bootshaus\, Fischlaker Höfe 99\, Essen\, NRW\, 45239\, Deutschland
CATEGORIES:Gemütliches
END:VEVENT
BEGIN:VEVENT
DTSTART;TZID=Europe/Berlin:20251222T190000
DTEND;TZID=Europe/Berlin:20251222T213000
DTSTAMP:20260424T224327
CREATED:20251120T190012Z
LAST-MODIFIED:20251101T154328Z
UID:2225-1766430000-1766439000@scb-web.de
SUMMARY:Seglertreff
DESCRIPTION:
URL:https://scb-web.de/event/seglertreff-92/
LOCATION:SCB Bootshaus\, Fischlaker Höfe 99\, Essen\, NRW\, 45239\, Deutschland
CATEGORIES:Gemütliches
END:VEVENT
END:VCALENDAR